BEGIN:VCALENDAR
VERSION:2.0
PRODID:-//Dachstubensalon.de - ECPv6.15.20//NONSGML v1.0//EN
CALSCALE:GREGORIAN
METHOD:PUBLISH
X-WR-CALNAME:Dachstubensalon.de
X-ORIGINAL-URL:https://dachstubensalon.de
X-WR-CALDESC:Veranstaltungen für Dachstubensalon.de
REFRESH-INTERVAL;VALUE=DURATION:PT1H
X-Robots-Tag:noindex
X-PUBLISHED-TTL:PT1H
BEGIN:VTIMEZONE
TZID:Europe/Berlin
BEGIN:DAYLIGHT
TZOFFSETFROM:+0100
TZOFFSETTO:+0200
TZNAME:CEST
DTSTART:20250330T010000
END:DAYLIGHT
BEGIN:STANDARD
TZOFFSETFROM:+0200
TZOFFSETTO:+0100
TZNAME:CET
DTSTART:20251026T010000
END:STANDARD
BEGIN:DAYLIGHT
TZOFFSETFROM:+0100
TZOFFSETTO:+0200
TZNAME:CEST
DTSTART:20260329T010000
END:DAYLIGHT
BEGIN:STANDARD
TZOFFSETFROM:+0200
TZOFFSETTO:+0100
TZNAME:CET
DTSTART:20261025T010000
END:STANDARD
BEGIN:DAYLIGHT
TZOFFSETFROM:+0100
TZOFFSETTO:+0200
TZNAME:CEST
DTSTART:20270328T010000
END:DAYLIGHT
BEGIN:STANDARD
TZOFFSETFROM:+0200
TZOFFSETTO:+0100
TZNAME:CET
DTSTART:20271031T010000
END:STANDARD
END:VTIMEZONE
BEGIN:VEVENT
DTSTART;TZID=Europe/Berlin:20260210T180000
DTEND;TZID=Europe/Berlin:20260210T210000
DTSTAMP:20260422T204746
CREATED:20260127T135210Z
LAST-MODIFIED:20260127T141622Z
UID:2323-1770746400-1770757200@dachstubensalon.de
SUMMARY:Literarische Werkstatt - work in progress
DESCRIPTION:Termin für die nächste Literarische Werkstatt ist \nDienstag\, der 10. Februar 2026. \nSie findet dieses Mal statt bei Elke\, in der Blumendelle 2 in 45881 Gelsenkirchen. (Bitte vorher etwas essen – oder was mitbringen! -\, denn die Küche bei Elke bleibt kalt… \n \nGemälde: O.T. von Elke Holland aus der Serie „Busenbilder“ \n 
URL:https://dachstubensalon.de/termin/literarische-werkstatt-work-in-progress-34/
LOCATION:E.Holland\, Blumendelle 2\, Gelsenkirchen\, 458891\, Germany
ATTACH;FMTTYPE=image/jpeg:https://dachstubensalon.de/wp-content/uploads/2022/09/Scan2022-08-23_143833_000-e1662196007342.jpg
END:VEVENT
END:VCALENDAR